BEGIN:VCALENDAR
VERSION:2.0
PRODID:-//eventon.com NONSGML v1.0//EN
CALSCALE:GREGORIAN
METHOD:PUBLISH
BEGIN:VEVENT
UID:69e4d2382314b
DTSTAMP:20260419T130144Z
DTSTART:20231211T090000Z
DTEND:20231212T170000Z
LOCATION:Essen
SUMMARY:Masterkurs für den fortgeschrittenen GC-MS Anwender
DESCRIPTION:mehr analytische Kompetenz für fortgeschrittene GC-MS-Anwender
  bezüglich Parameterwahl\,  Testmethoden\,  Geräteüberprüfung und Unter
 halt\nhttps://vernetzung-und-gesellschaft.de/events/masterkurs-fuer-den-for
 tgeschrittenen-gc-ms-anwender/
URL:https://vernetzung-und-gesellschaft.de/events/masterkurs-fuer-den-fortgeschrittenen-gc-ms-anwender/
END:VEVENT
END:VCALENDAR