BEGIN:VCALENDAR
VERSION:2.0
PRODID:-//eventon.com NONSGML v1.0//EN
CALSCALE:GREGORIAN
METHOD:PUBLISH
BEGIN:VEVENT
UID:69e763db599c5
DTSTAMP:20260421T114739Z
DTSTART:20231214T090000Z
DTEND:20231214T170000Z
LOCATION:Essen
SUMMARY:Strahlenschutzkurs für die Fachkundegruppe R3
DESCRIPTION:Strahlenschutzkurs R3 &#8211; Erwerb der Fachkunde im Strahlens
 chutz. Modul RM. Werden Sie Strahlenschutzbeauftragter!\nhttps://vernetzung
 -und-gesellschaft.de/events/strahlenschutzkurs-fuer-die-fachkundegruppe-r3/
URL:https://vernetzung-und-gesellschaft.de/events/strahlenschutzkurs-fuer-die-fachkundegruppe-r3/
END:VEVENT
END:VCALENDAR