BEGIN:VCALENDAR
VERSION:2.0
PRODID:-//eventon.com NONSGML v1.0//EN
CALSCALE:GREGORIAN
METHOD:PUBLISH
BEGIN:VEVENT
UID:69e72da5086b6
DTSTAMP:20260421T075621Z
DTSTART:20231123T090000Z
DTEND:20231124T170000Z
LOCATION:Essen
SUMMARY:Leistungselektronik in Elektrofahrzeugen
DESCRIPTION:Seminar Leistungselektronik Elektrofahrzeug LE &#8211; E-Fahrze
 ug &#8211; Hybridfahrzeug &#8211; Wechselrichter &#8211; Batterieladesystem
 e &#8211; Bordnetz &#8211; DC/DC-Wandler\nhttps://vernetzung-und-gesellscha
 ft.de/events/leistungselektronik-in-elektrofahrzeugen/
URL:https://vernetzung-und-gesellschaft.de/events/leistungselektronik-in-elektrofahrzeugen/
END:VEVENT
END:VCALENDAR