BEGIN:VCALENDAR
VERSION:2.0
PRODID:-//eventon.com NONSGML v1.0//EN
CALSCALE:GREGORIAN
METHOD:PUBLISH
BEGIN:VEVENT
UID:69e730998a7b0
DTSTAMP:20260421T080857Z
DTSTART:20240318T090000Z
DTEND:20240319T170000Z
LOCATION:Essen
SUMMARY:Projektmanagement im Anlagenbau Teil 2
DESCRIPTION:Teil 2 der Weiterbildung mit systematischer Einführung in das 
 Projektmanagement Anlagenbau können Sie eigenständig Anlagenbauprojekte l
 eiten.\nhttps://vernetzung-und-gesellschaft.de/events/projektmanagement-im-
 anlagenbau-teil-2-2/
URL:https://vernetzung-und-gesellschaft.de/events/projektmanagement-im-anlagenbau-teil-2-2/
END:VEVENT
END:VCALENDAR