BEGIN:VCALENDAR
VERSION:2.0
PRODID:-//eventon.com NONSGML v1.0//EN
CALSCALE:GREGORIAN
METHOD:PUBLISH
BEGIN:VEVENT
UID:69e74884819ea
DTSTAMP:20260421T095100Z
DTSTART:20240320T090000Z
DTEND:20240321T170000Z
LOCATION:Essen
SUMMARY:GeprÃ¼fte BefÃ¤higte Person fÃ¼r die PrÃ¼fung von Drahtseilen und Lastaufnahmemitteln
DESCRIPTION:Erlangen Sie Ihre Qualifikation mit Praxisteil: Werden Sie befÃ
 ¤higte Person zur PrÃ¼fung von Drahtseilen und Lastaufnahmemitteln. Sicherh
 eitstechnische MÃ¤ngel abstellen.\nhttps://vernetzung-und-gesellschaft.de/e
 vents/gepruefte-befaehigte-person-fuer-die-pruefung-von-drahtseilen-und-las
 taufnahmemitteln/
URL:https://vernetzung-und-gesellschaft.de/events/gepruefte-befaehigte-person-fuer-die-pruefung-von-drahtseilen-und-lastaufnahmemitteln/
END:VEVENT
END:VCALENDAR