BEGIN:VCALENDAR
VERSION:2.0
PRODID:-//eventon.com NONSGML v1.0//EN
CALSCALE:GREGORIAN
METHOD:PUBLISH
BEGIN:VEVENT
UID:69e7439cb060b
DTSTAMP:20260421T093004Z
DTSTART:20240227T090000Z
DTEND:20240227T170000Z
LOCATION:hdt digitaler Campus
SUMMARY:Prüfpflichtige Sicherheitseinrichtungen im Labor: Laborabzüge
DESCRIPTION:Erlangen Sie die notwendige Qualifikation in Theorie und Praxis
  zur vorgeschriebenen Prüfung von Laborabzügen\nhttps://vernetzung-und-ge
 sellschaft.de/events/pruefpflichtige-sicherheitseinrichtungen-im-labor-labo
 rabzuege-2/
URL:https://vernetzung-und-gesellschaft.de/events/pruefpflichtige-sicherheitseinrichtungen-im-labor-laborabzuege-2/
END:VEVENT
END:VCALENDAR