BEGIN:VCALENDAR
VERSION:2.0
PRODID:-//eventon.com NONSGML v1.0//EN
CALSCALE:GREGORIAN
METHOD:PUBLISH
BEGIN:VEVENT
UID:69e7439caeead
DTSTAMP:20260421T093004Z
DTSTART:20240319T090000Z
DTEND:20240319T170000Z
LOCATION:Essen
SUMMARY:Projektverträge im Anlagenbau rechtssicher gestalten
DESCRIPTION:Vermittlung von Vertrags-Know-how im Anlagenbau\,  um für das 
 jeweilige Projekt geeignete und angepasste Verträge formulieren zu können
 .\nhttps://vernetzung-und-gesellschaft.de/events/projektvertraege-im-anlage
 nbau-rechtssicher-gestalten/
URL:https://vernetzung-und-gesellschaft.de/events/projektvertraege-im-anlagenbau-rechtssicher-gestalten/
END:VEVENT
END:VCALENDAR