BEGIN:VCALENDAR
VERSION:2.0
PRODID:-//eventon.com NONSGML v1.0//EN
CALSCALE:GREGORIAN
METHOD:PUBLISH
BEGIN:VEVENT
UID:69e73de41ad0f
DTSTAMP:20260421T090540Z
DTSTART:20241105T090000Z
DTEND:20241106T170000Z
LOCATION:Essen
SUMMARY:Neue Entwicklungen im Wasserrecht und im technischen Gewässerschutz
DESCRIPTION:Erfahren Sie neue Entwicklungen im Wasserrecht und im technisch
 en Gewässerschutz in dieser 2tägigen Fortbildung\nhttps://vernetzung-und-
 gesellschaft.de/events/neue-entwicklungen-im-wasserrecht-und-im-technischen
 -gewaesserschutz-2/
URL:https://vernetzung-und-gesellschaft.de/events/neue-entwicklungen-im-wasserrecht-und-im-technischen-gewaesserschutz-2/
END:VEVENT
END:VCALENDAR