BEGIN:VCALENDAR
VERSION:2.0
PRODID:-//eventon.com NONSGML v1.0//EN
CALSCALE:GREGORIAN
METHOD:PUBLISH
BEGIN:VEVENT
UID:69e7434097ea7
DTSTAMP:20260421T092832Z
DTSTART:20230420T090000Z
DTEND:20230420T170000Z
LOCATION:Essen
SUMMARY:Update Gefahrgut – sind Ihre Kenntnisse noch aktuell?
DESCRIPTION:Auffrischungsseminar mit Praxistipps zu den aktuellen Entwicklu
 ngen bei den Vorschriften zur Beförderung gefährlicher Güter\nhttps://ve
 rnetzung-und-gesellschaft.de/events/update-gefahrgut-sind-ihre-kenntnisse-n
 och-aktuell/
URL:https://vernetzung-und-gesellschaft.de/events/update-gefahrgut-sind-ihre-kenntnisse-noch-aktuell/
END:VEVENT
END:VCALENDAR