BEGIN:VCALENDAR
VERSION:2.0
PRODID:-//eventon.com NONSGML v1.0//EN
CALSCALE:GREGORIAN
METHOD:PUBLISH
BEGIN:VEVENT
UID:69e4e5b8081b0
DTSTAMP:20260419T142456Z
DTSTART:20240514T090000Z
DTEND:20240515T170000Z
LOCATION:Essen
SUMMARY:Halterungssysteme industrieller Rohrleitungen
DESCRIPTION:Erwerben Sie fundiertes Know-how zur Planung\,  Auslegung und B
 etrieb von Halterungssystemen für Rohrleitungsnetze.\nhttps://vernetzung-u
 nd-gesellschaft.de/events/halterungssysteme-industrieller-rohrleitungen/
URL:https://vernetzung-und-gesellschaft.de/events/halterungssysteme-industrieller-rohrleitungen/
END:VEVENT
END:VCALENDAR