BEGIN:VCALENDAR
VERSION:2.0
PRODID:-//eventon.com NONSGML v1.0//EN
CALSCALE:GREGORIAN
METHOD:PUBLISH
BEGIN:VEVENT
UID:69e7426a1d5a9
DTSTAMP:20260421T092458Z
DTSTART:20241204T090000Z
DTEND:20241205T170000Z
LOCATION:Essen
SUMMARY:Schweißtechnisches Wissen für Konstrukteure
DESCRIPTION:Schweißen für Konstrukteure &#8211; das Intensivseminar mit u
 mfassenden Grundlagenwissen für die Planung\,  Konstruktion und Verarbeitu
 ng von Schweißkonstruktionen\nhttps://vernetzung-und-gesellschaft.de/event
 s/schweisstechnisches-wissen-fuer-konstrukteure-3/
URL:https://vernetzung-und-gesellschaft.de/events/schweisstechnisches-wissen-fuer-konstrukteure-3/
END:VEVENT
END:VCALENDAR