BEGIN:VCALENDAR
VERSION:2.0
PRODID:-//eventon.com NONSGML v1.0//EN
CALSCALE:GREGORIAN
METHOD:PUBLISH
BEGIN:VEVENT
UID:69e72b53963cb
DTSTAMP:20260421T074627Z
DTSTART:20240418T090000Z
DTEND:20240419T170000Z
LOCATION:Essen
SUMMARY:Schallschutz und Lärmisolierung – Grundlagen und Praxis
DESCRIPTION:Seminar Isolation von Körperschall und Lärm\,  Lärmbekämpfu
 ng\,  Lärmminderung\,  Lärmschutz\,  Schwingungstechnik\,  Körperschallr
 eduzierung\,  Dämpfung\nhttps://vernetzung-und-gesellschaft.de/events/scha
 llschutz-und-laermisolierung-grundlagen-und-praxis/
URL:https://vernetzung-und-gesellschaft.de/events/schallschutz-und-laermisolierung-grundlagen-und-praxis/
END:VEVENT
END:VCALENDAR