BEGIN:VCALENDAR
VERSION:2.0
PRODID:-//eventon.com NONSGML v1.0//EN
CALSCALE:GREGORIAN
METHOD:PUBLISH
BEGIN:VEVENT
UID:69e4d21dd95ef
DTSTAMP:20260419T130117Z
DTSTART:20241119T090000Z
DTEND:20241121T170000Z
LOCATION:Essen
SUMMARY:Befähigte Person für den Explosionsschutz: Elektrische Anlagen in explosionsgefährdeten Bereichen
DESCRIPTION:Erwerben Sie die Zusatzqualifikation zur Befähigten Person Exp
 losionsschutz: Elektrische Anlagen in explosionsgefährdeten Bereichen prü
 fen\nhttps://vernetzung-und-gesellschaft.de/events/befaehigte-person-fuer-d
 en-explosionsschutz-elektrische-anlagen-in-explosionsgefaehrdeten-bereichen
 -4/
URL:https://vernetzung-und-gesellschaft.de/events/befaehigte-person-fuer-den-explosionsschutz-elektrische-anlagen-in-explosionsgefaehrdeten-bereichen-4/
END:VEVENT
END:VCALENDAR