BEGIN:VCALENDAR
VERSION:2.0
PRODID:-//eventon.com NONSGML v1.0//EN
CALSCALE:GREGORIAN
METHOD:PUBLISH
BEGIN:VEVENT
UID:69e7315a1e42a
DTSTAMP:20260421T081210Z
DTSTART:20240805T090000Z
DTEND:20240806T170000Z
LOCATION:Cuxhaven
SUMMARY:Gefährdungsbeurteilung bei Abweichungen von Bestimmungen der UVV Krane
DESCRIPTION:Erfahren Sie alle Rechtsgrundlagen zu speziellen Gefährdungsbe
 urteilungen von Kranen bei Abweichungen von den Bestimmungen der DGUV V52.\
 nhttps://vernetzung-und-gesellschaft.de/events/gefaehrdungsbeurteilung-bei-
 abweichungen-von-bestimmungen-der-uvv-krane-3/
URL:https://vernetzung-und-gesellschaft.de/events/gefaehrdungsbeurteilung-bei-abweichungen-von-bestimmungen-der-uvv-krane-3/
END:VEVENT
END:VCALENDAR