BEGIN:VCALENDAR
VERSION:2.0
PRODID:-//eventon.com NONSGML v1.0//EN
CALSCALE:GREGORIAN
METHOD:PUBLISH
BEGIN:VEVENT
UID:69e72b1ad1883
DTSTAMP:20260421T074530Z
DTSTART:20240227T090000Z
DTEND:20240228T170000Z
LOCATION:Essen
SUMMARY:Energiewende und Sektorenkopplung
DESCRIPTION:Überblick zu Themen der Sektoren Strom\,  Verkehr und Wärme u
 nd zukünftige Herausforderungen des Energiesystems auch online\nhttps://ve
 rnetzung-und-gesellschaft.de/events/energiewende-und-sektorenkopplung/
URL:https://vernetzung-und-gesellschaft.de/events/energiewende-und-sektorenkopplung/
END:VEVENT
END:VCALENDAR