BEGIN:VCALENDAR
VERSION:2.0
PRODID:-//eventon.com NONSGML v1.0//EN
CALSCALE:GREGORIAN
METHOD:PUBLISH
BEGIN:VEVENT
UID:69e741bb9b2d9
DTSTAMP:20260421T092203Z
DTSTART:20240506T090000Z
DTEND:20240507T170000Z
LOCATION:Essen
SUMMARY:Schaltberechtigung - Unterweisung für elektrische Anlagen
DESCRIPTION:Seminar Schaltberechtigung Schaltbefähigung Schulung Fachkunde
 nachweis 30KV 33KV 36KV 110KV 230KV 400KV Schaltauftrag\,  auch online\nhtt
 ps://vernetzung-und-gesellschaft.de/events/schaltberechtigung-unterweisung-
 fuer-elektrische-anlagen-4/
URL:https://vernetzung-und-gesellschaft.de/events/schaltberechtigung-unterweisung-fuer-elektrische-anlagen-4/
END:VEVENT
END:VCALENDAR