BEGIN:VCALENDAR
VERSION:2.0
PRODID:-//eventon.com NONSGML v1.0//EN
CALSCALE:GREGORIAN
METHOD:PUBLISH
BEGIN:VEVENT
UID:69e7310bcd69a
DTSTAMP:20260421T081051Z
DTSTART:20241112T090000Z
DTEND:20241113T170000Z
LOCATION:Essen
SUMMARY:Windenergiegrundlagen – Windparks\,  Anlagentechnik\,  Betrieb\,  Wirtschaftlichkeit
DESCRIPTION:Kompakter Einstieg in die Windenergie mit physikalischen Grundl
 agen\,  technischen Aspekten wie Belastung und Lebensdauer und wirtschaftli
 chen Aspekten.\nhttps://vernetzung-und-gesellschaft.de/events/windenergiegr
 undlagen-windparks-anlagentechnik-betrieb-wirtschaftlichkeit/
URL:https://vernetzung-und-gesellschaft.de/events/windenergiegrundlagen-windparks-anlagentechnik-betrieb-wirtschaftlichkeit/
END:VEVENT
END:VCALENDAR