BEGIN:VCALENDAR
VERSION:2.0
PRODID:-//eventon.com NONSGML v1.0//EN
CALSCALE:GREGORIAN
METHOD:PUBLISH
BEGIN:VEVENT
UID:69e73e8096f8f
DTSTAMP:20260421T090816Z
DTSTART:20240619T090000Z
DTEND:20240620T170000Z
LOCATION:Essen
SUMMARY:Brandschutz in der Gebäudetechnik
DESCRIPTION:Das Seminar Brandschutz in der Gebäudetechnik hilft die Brandr
 isiken zu erkennen und geeignete Schutzmaßnahmen zu ergreifen.\nhttps://ve
 rnetzung-und-gesellschaft.de/events/brandschutz-in-der-gebaeudetechnik/
URL:https://vernetzung-und-gesellschaft.de/events/brandschutz-in-der-gebaeudetechnik/
END:VEVENT
END:VCALENDAR