BEGIN:VCALENDAR
VERSION:2.0
PRODID:-//eventon.com NONSGML v1.0//EN
CALSCALE:GREGORIAN
METHOD:PUBLISH
BEGIN:VEVENT
UID:69e7437d373da
DTSTAMP:20260421T092933Z
DTSTART:20240313T090000Z
DTEND:20240315T170000Z
LOCATION:Essen
SUMMARY:Ausbilder und Einsatzleiter von Anschlägern im Hebezeugbetrieb mit Praxistag
DESCRIPTION:Lehrgang: Befähigung für die fachgerechte Aus- und Fortbildun
 g von Anschlägern im Hebezeugbetrieb\nhttps://vernetzung-und-gesellschaft.
 de/events/ausbilder-und-einsatzleiter-von-anschlaegern-im-hebezeugbetrieb-m
 it-praxistag-2/
URL:https://vernetzung-und-gesellschaft.de/events/ausbilder-und-einsatzleiter-von-anschlaegern-im-hebezeugbetrieb-mit-praxistag-2/
END:VEVENT
END:VCALENDAR