BEGIN:VCALENDAR
VERSION:2.0
PRODID:-//eventon.com NONSGML v1.0//EN
CALSCALE:GREGORIAN
METHOD:PUBLISH
BEGIN:VEVENT
UID:69e742b18456c
DTSTAMP:20260421T092609Z
DTSTART:20240413T090000Z
DTEND:20240413T170000Z
LOCATION:Essen
SUMMARY:Aktualisierung der Kenntnisse im Strahlenschutz für medizinisches Assistenzpersonal
DESCRIPTION:Kurs zur Aktualisierung der Kenntnisse im Strahlenschutz für m
 edizinisches Assistenzpersonal im Anwendungsbereich Strahlentherapie und/od
 er Nuklearmedizin\nhttps://vernetzung-und-gesellschaft.de/events/aktualisie
 rung-der-kenntnisse-im-strahlenschutz-fuer-medizinisches-assistenzpersonal-
 7/
URL:https://vernetzung-und-gesellschaft.de/events/aktualisierung-der-kenntnisse-im-strahlenschutz-fuer-medizinisches-assistenzpersonal-7/
END:VEVENT
END:VCALENDAR