BEGIN:VCALENDAR
VERSION:2.0
PRODID:-//eventon.com NONSGML v1.0//EN
CALSCALE:GREGORIAN
METHOD:PUBLISH
BEGIN:VEVENT
UID:69e742dae9761
DTSTAMP:20260421T092650Z
DTSTART:20241008T090000Z
DTEND:20241009T170000Z
LOCATION:Regensburg
SUMMARY:EMV-konformes Leiterplatten-Design
DESCRIPTION:Seminar zum EMV-Verhalten passiver Bauelemente und integrierter
  Bausteine über Einflussgrößen der Leiterplatte bis hin zum High-Speed-D
 esign\nhttps://vernetzung-und-gesellschaft.de/events/emv-konformes-leiterpl
 atten-design/
URL:https://vernetzung-und-gesellschaft.de/events/emv-konformes-leiterplatten-design/
END:VEVENT
END:VCALENDAR