BEGIN:VCALENDAR
VERSION:2.0
PRODID:-//eventon.com NONSGML v1.0//EN
CALSCALE:GREGORIAN
METHOD:PUBLISH
BEGIN:VEVENT
UID:69e72eef50ea0
DTSTAMP:20260421T080151Z
DTSTART:20240702T090000Z
DTEND:20240703T170000Z
LOCATION:Bremen
SUMMARY:Erdung von elektrischen Hochspannungsanlagen
DESCRIPTION:Seminar zu Erdungsanlagen als Teil von Hochspannungsanlagen ✅
  Anforderungen Auslegung und Überprüfung ✅ auch online\nhttps://vernetz
 ung-und-gesellschaft.de/events/erdung-von-elektrischen-hochspannungsanlagen
 -2/
URL:https://vernetzung-und-gesellschaft.de/events/erdung-von-elektrischen-hochspannungsanlagen-2/
END:VEVENT
END:VCALENDAR