BEGIN:VCALENDAR
VERSION:2.0
PRODID:-//eventon.com NONSGML v1.0//EN
CALSCALE:GREGORIAN
METHOD:PUBLISH
BEGIN:VEVENT
UID:69e72ec6b39ae
DTSTAMP:20260421T080110Z
DTSTART:20240925T090000Z
DTEND:20240925T170000Z
LOCATION:Essen
SUMMARY:Offshore Windenergie Grundlagen
DESCRIPTION:Steigern Sie Ihr Wissen mit unserem Offshore-Windenergie Semina
 r &#8211; von grundlegenden Konzepten bis zu spezifischen Rechtsfragen.\nht
 tps://vernetzung-und-gesellschaft.de/events/offshore-windenergie-grundlagen
 -2/
URL:https://vernetzung-und-gesellschaft.de/events/offshore-windenergie-grundlagen-2/
END:VEVENT
END:VCALENDAR