BEGIN:VCALENDAR
VERSION:2.0
PRODID:-//eventon.com NONSGML v1.0//EN
CALSCALE:GREGORIAN
METHOD:PUBLISH
BEGIN:VEVENT
UID:69e741dccbfb0
DTSTAMP:20260421T092236Z
DTSTART:20240415T090000Z
DTEND:20240416T170000Z
LOCATION:Essen
SUMMARY:Klimaschutz und Klimastrategie für Unternehmen
DESCRIPTION:Klimakrise ► Erkennen Sie Konsequenzen und Chancen für Ihr U
 nternehmen und entwickeln Sie Ihre eigene Klimastrategie ► hier informier
 en\nhttps://vernetzung-und-gesellschaft.de/events/klimaschutz-und-klimastra
 tegie-fuer-unternehmen/
URL:https://vernetzung-und-gesellschaft.de/events/klimaschutz-und-klimastrategie-fuer-unternehmen/
END:VEVENT
END:VCALENDAR