BEGIN:VCALENDAR
VERSION:2.0
PRODID:-//eventon.com NONSGML v1.0//EN
CALSCALE:GREGORIAN
METHOD:PUBLISH
BEGIN:VEVENT
UID:69e4e1c78f5fa
DTSTAMP:20260419T140807Z
DTSTART:20240424T090000Z
DTEND:20240424T170000Z
LOCATION:hdt digitaler Campus
SUMMARY:Lieferkettengesetz – Neuregelungen und Folgen für Ihre Rechtssicherheit
DESCRIPTION:Erfahren Sie in diesem Online-Seminar\,  wie die Sorgfaltspflic
 hten praxisgerecht umgesetzt werden können und wie Ihr Fahrplan dafür aus
 sehen kann.\nhttps://vernetzung-und-gesellschaft.de/events/lieferkettengese
 tz-neuregelungen-und-folgen-fuer-ihre-rechtssicherheit/
URL:https://vernetzung-und-gesellschaft.de/events/lieferkettengesetz-neuregelungen-und-folgen-fuer-ihre-rechtssicherheit/
END:VEVENT
END:VCALENDAR