BEGIN:VCALENDAR
VERSION:2.0
PRODID:-//eventon.com NONSGML v1.0//EN
CALSCALE:GREGORIAN
METHOD:PUBLISH
BEGIN:VEVENT
UID:69e7426a1ba8a
DTSTAMP:20260421T092458Z
DTSTART:20241008T090000Z
DTEND:20241008T170000Z
LOCATION:Essen
SUMMARY:Aktualisierung der Fachkunde im Strahlenschutz S1.1\,  S1.2\,  S1.3\,  S2.1\,  S.2.2\,  S2.3\,  S3.1\,  S3.2\,  S6.1
DESCRIPTION:Module AR und AU • Kurs zur Aktualisierung der Fachkunde im S
 trahlenschutz nach Strahlenschutzverordnung (StrlSchV) Fachkundegruppen S1\
 ,  S2\,  S3\,  S6\nhttps://vernetzung-und-gesellschaft.de/events/aktualisie
 rung-der-fachkunde-im-strahlenschutz-s1-1-s1-2-s1-3-s2-1-s-2-2-s2-3-s3-1-s3
 -2-s6-1-9/
URL:https://vernetzung-und-gesellschaft.de/events/aktualisierung-der-fachkunde-im-strahlenschutz-s1-1-s1-2-s1-3-s2-1-s-2-2-s2-3-s3-1-s3-2-s6-1-9/
END:VEVENT
END:VCALENDAR