BEGIN:VCALENDAR
VERSION:2.0
PRODID:-//eventon.com NONSGML v1.0//EN
CALSCALE:GREGORIAN
METHOD:PUBLISH
BEGIN:VEVENT
UID:69e730ec9bc6d
DTSTAMP:20260421T081020Z
DTSTART:20240930T090000Z
DTEND:20240930T170000Z
LOCATION:Essen
SUMMARY:Strahlenschutzkurs für die Fachkundegruppe R3
DESCRIPTION:Strahlenschutzkurs R3 &#8211; Erwerb der Fachkunde im Strahlens
 chutz. Modul RM. Werden Sie Strahlenschutzbeauftragter!\nhttps://vernetzung
 -und-gesellschaft.de/events/strahlenschutzkurs-fuer-die-fachkundegruppe-r3-
 9/
URL:https://vernetzung-und-gesellschaft.de/events/strahlenschutzkurs-fuer-die-fachkundegruppe-r3-9/
END:VEVENT
END:VCALENDAR