BEGIN:VCALENDAR
VERSION:2.0
PRODID:-//eventon.com NONSGML v1.0//EN
CALSCALE:GREGORIAN
METHOD:PUBLISH
BEGIN:VEVENT
UID:69e4e717cef46
DTSTAMP:20260419T143047Z
DTSTART:20241213T090000Z
DTEND:20241213T170000Z
LOCATION:Essen
SUMMARY:Prüfpflichtige Sicherheitseinrichtungen im Labor und sonstigen Arbeitsräumen: Sicherheitsschränke
DESCRIPTION:Erlangen Sie die notwendige Qualifikation in Theorie und Praxis
  zur vorgeschriebenen Prüfung von Sicherheitsschränken in Labor und Arbei
 tsräumen\nhttps://vernetzung-und-gesellschaft.de/events/pruefpflichtige-si
 cherheitseinrichtungen-im-labor-und-sonstigen-arbeitsraeumen-sicherheitssch
 raenke-5/
URL:https://vernetzung-und-gesellschaft.de/events/pruefpflichtige-sicherheitseinrichtungen-im-labor-und-sonstigen-arbeitsraeumen-sicherheitsschraenke-5/
END:VEVENT
END:VCALENDAR