BEGIN:VCALENDAR
VERSION:2.0
PRODID:-//eventon.com NONSGML v1.0//EN
CALSCALE:GREGORIAN
METHOD:PUBLISH
BEGIN:VEVENT
UID:69e7402899bea
DTSTAMP:20260421T091520Z
DTSTART:20250407T090000Z
DTEND:20250411T170000Z
LOCATION:Essen
SUMMARY:Ausbildung von (Prüf-)Sachverständigen für die Prüfung von Kranen
DESCRIPTION:Ausbildung mit Personenzertifizierung und Abschluss Prüfsachve
 rständiger u. a. für Mitarbeiter in der Krankonstruktion\,  Kranfertigung
 \,  Kranmontage\nhttps://vernetzung-und-gesellschaft.de/events/ausbildung-v
 on-pruef-sachverstaendigen-fuer-die-pruefung-von-kranen-6/
URL:https://vernetzung-und-gesellschaft.de/events/ausbildung-von-pruef-sachverstaendigen-fuer-die-pruefung-von-kranen-6/
END:VEVENT
END:VCALENDAR