BEGIN:VCALENDAR
VERSION:2.0
PRODID:-//eventon.com NONSGML v1.0//EN
CALSCALE:GREGORIAN
METHOD:PUBLISH
BEGIN:VEVENT
UID:69e73098d1e72
DTSTAMP:20260421T080856Z
DTSTART:20251112T090000Z
DTEND:20251112T170000Z
LOCATION:Essen
SUMMARY:Lockout Tagout (LOTO) – Arbeitssicherheit und Wartung nach Betriebssicherheitsverordnung
DESCRIPTION:Lockout/Tagout-Prozesse in den Arbeitsschutz integrieren und di
 e Anforderungen kennen\,  um mit diesen Systemen sicher arbeiten zu können
 .\nhttps://vernetzung-und-gesellschaft.de/events/lockout-tagout-loto-arbeit
 ssicherheit-und-wartung-nach-betriebssicherheitsverordnung-4/
URL:https://vernetzung-und-gesellschaft.de/events/lockout-tagout-loto-arbeitssicherheit-und-wartung-nach-betriebssicherheitsverordnung-4/
END:VEVENT
END:VCALENDAR