BEGIN:VCALENDAR
VERSION:2.0
PRODID:-//eventon.com NONSGML v1.0//EN
CALSCALE:GREGORIAN
METHOD:PUBLISH
BEGIN:VEVENT
UID:69e7429d3da0c
DTSTAMP:20260421T092549Z
DTSTART:20250507T090000Z
DTEND:20250508T170000Z
LOCATION:Bingen
SUMMARY:Sichere Steuerung an Krananlagen - entsprechend EN ISO 13849
DESCRIPTION:Intensivworkshop zur Ausführung und Beurteilung einer Kransteu
 erung anhand konkreter Praxisbeispiele EN 954-1 EN ISO 13849 EN ISO 13849-1
 :2015\nhttps://vernetzung-und-gesellschaft.de/events/sichere-steuerung-an-k
 rananlagen-entsprechend-en-iso-13849-4/
URL:https://vernetzung-und-gesellschaft.de/events/sichere-steuerung-an-krananlagen-entsprechend-en-iso-13849-4/
END:VEVENT
END:VCALENDAR