BEGIN:VCALENDAR
VERSION:2.0
PRODID:-//eventon.com NONSGML v1.0//EN
CALSCALE:GREGORIAN
METHOD:PUBLISH
BEGIN:VEVENT
UID:69e731640ade4
DTSTAMP:20260421T081220Z
DTSTART:20250428T090000Z
DTEND:20250429T170000Z
LOCATION:Essen
SUMMARY:Turmdrehkrantagung
DESCRIPTION:große Fachtagung zur Vorstellung von wichtigen Bestimmungen de
 rDIN EN 14439:2010-03 für Turmdrehkrane\nhttps://vernetzung-und-gesellscha
 ft.de/events/turmdrehkrantagung/
URL:https://vernetzung-und-gesellschaft.de/events/turmdrehkrantagung/
END:VEVENT
END:VCALENDAR