BEGIN:VCALENDAR
VERSION:2.0
PRODID:-//eventon.com NONSGML v1.0//EN
CALSCALE:GREGORIAN
METHOD:PUBLISH
BEGIN:VEVENT
UID:69e72e646be29
DTSTAMP:20260421T075932Z
DTSTART:20190924T090000Z
DTEND:20190924T170000Z
LOCATION:Berlin
SUMMARY:Baubetriebsplanung als Grundlage für den Projekterfolg
DESCRIPTION:Seminar Baubetriebsplanung\,  Betriebs- und Bauanweisung und La
 ngsamfahrstellen\,  Betra\,  Betra-Antragsqualität\,  Bauordnung\,  Baurec
 ht\,  Eisenbahn\,  RailSys/ BaBet\nhttps://vernetzung-und-gesellschaft.de/e
 vents/baubetriebsplanung-als-grundlage-fuer-den-projekterfolg/
URL:https://vernetzung-und-gesellschaft.de/events/baubetriebsplanung-als-grundlage-fuer-den-projekterfolg/
END:VEVENT
END:VCALENDAR