BEGIN:VCALENDAR
VERSION:2.0
PRODID:-//eventon.com NONSGML v1.0//EN
CALSCALE:GREGORIAN
METHOD:PUBLISH
BEGIN:VEVENT
UID:69e72b96f2369
DTSTAMP:20260421T074734Z
DTSTART:20201117T090000Z
DTEND:20201117T170000Z
LOCATION:Essen
SUMMARY:GeschweiÃŸte Stahlbauten nach EC3 und EN 1090-2 â€“ Bemessung und AusfÃ¼hrung
DESCRIPTION:Umfassendes Know-how EC 3 und EN 1090-2 kompakt an einem Tag fÃ
 ¼r Tragwerksplaner\,  Konstrukteure\,  SchweiÃŸaufsicht\,  Hersteller\,  Pl
 aner\,  BauÃ¼berwacher\nhttps://vernetzung-und-gesellschaft.de/events/gesch
 weisste-stahlbauten-nach-ec3-und-en-1090-2-bemessung-und-ausfuehrung/
URL:https://vernetzung-und-gesellschaft.de/events/geschweisste-stahlbauten-nach-ec3-und-en-1090-2-bemessung-und-ausfuehrung/
END:VEVENT
END:VCALENDAR