BEGIN:VCALENDAR
VERSION:2.0
PRODID:-//eventon.com NONSGML v1.0//EN
CALSCALE:GREGORIAN
METHOD:PUBLISH
BEGIN:VEVENT
UID:69e741dce3295
DTSTAMP:20260421T092236Z
DTSTART:20210601T090000Z
DTEND:20210602T170000Z
LOCATION:Essen
SUMMARY:Sicherheitsdatenblatt Aufbauseminar für Down-Stream-User (nachgeschaltete Anwender)
DESCRIPTION:Seminar zur Information für Downstream User (DU) – Nachgesch
 altete Anwender über die Pflichten gemäß REACH-Verordnung\nhttps://verne
 tzung-und-gesellschaft.de/events/sicherheitsdatenblatt-aufbauseminar-fuer-d
 own-stream-user-nachgeschaltete-anwender/
URL:https://vernetzung-und-gesellschaft.de/events/sicherheitsdatenblatt-aufbauseminar-fuer-down-stream-user-nachgeschaltete-anwender/
END:VEVENT
END:VCALENDAR