BEGIN:VCALENDAR
VERSION:2.0
PRODID:-//eventon.com NONSGML v1.0//EN
CALSCALE:GREGORIAN
METHOD:PUBLISH
BEGIN:VEVENT
UID:69e7427c052c1
DTSTAMP:20260421T092516Z
DTSTART:20220330T090000Z
DTEND:20220331T170000Z
LOCATION:Essen
SUMMARY:Auslegung von Wellen für Krane nach EN 13001-3-8
DESCRIPTION:Workshop zur praktischen Anwendung der EN 13001-3-8 für die Ko
 nstruktion von Wellen für Krane\nhttps://vernetzung-und-gesellschaft.de/ev
 ents/auslegung-von-wellen-fuer-krane-nach-en-13001-3-8/
URL:https://vernetzung-und-gesellschaft.de/events/auslegung-von-wellen-fuer-krane-nach-en-13001-3-8/
END:VEVENT
END:VCALENDAR