BEGIN:VCALENDAR
VERSION:2.0
PRODID:-//eventon.com NONSGML v1.0//EN
CALSCALE:GREGORIAN
METHOD:PUBLISH
BEGIN:VEVENT
UID:69e741f27070a
DTSTAMP:20260421T092258Z
DTSTART:20230508T090000Z
DTEND:20230509T170000Z
LOCATION:Essen
SUMMARY:Zur Prüfung befähigte Person für Dampfkesselanlagen - nach Betriebssicherheitsverordnung (BetrSichV)
DESCRIPTION:Ausbildung zur Befähigten Person mit den notwendigen Kenntniss
 en zur gesetzlich vorgeschriebenen regelmäßigen Prüfung von Dampfkesseln
  und Dampferzeugern\nhttps://vernetzung-und-gesellschaft.de/events/zur-prue
 fung-befaehigte-person-fuer-dampfkesselanlagen-nach-betriebssicherheitsvero
 rdnung-betrsichv/
URL:https://vernetzung-und-gesellschaft.de/events/zur-pruefung-befaehigte-person-fuer-dampfkesselanlagen-nach-betriebssicherheitsverordnung-betrsichv/
END:VEVENT
END:VCALENDAR