BEGIN:VCALENDAR
VERSION:2.0
PRODID:-//eventon.com NONSGML v1.0//EN
CALSCALE:GREGORIAN
METHOD:PUBLISH
BEGIN:VEVENT
UID:69e73135a0ddf
DTSTAMP:20260421T081133Z
DTSTART:20231122T090000Z
DTEND:20231123T170000Z
LOCATION:Essen
SUMMARY:Planung und Auslegung von Rohrleitungen mit Regelventilen und Pumpen
DESCRIPTION:Planung und Auslegung von Rohrleitungen mit Regelventilen und P
 umpen &#8211; Basiskenntnisse mit zahlreichen Übungen zur Vermeidung von D
 ruckverlusten\nhttps://vernetzung-und-gesellschaft.de/events/planung-und-au
 slegung-von-rohrleitungen-mit-regelventilen-und-pumpen/
URL:https://vernetzung-und-gesellschaft.de/events/planung-und-auslegung-von-rohrleitungen-mit-regelventilen-und-pumpen/
END:VEVENT
END:VCALENDAR