BEGIN:VCALENDAR
VERSION:2.0
PRODID:-//eventon.com NONSGML v1.0//EN
CALSCALE:GREGORIAN
METHOD:PUBLISH
BEGIN:VEVENT
UID:69e7314ace71b
DTSTAMP:20260421T081154Z
DTSTART:20231204T090000Z
DTEND:20231213T170000Z
LOCATION:Essen
SUMMARY:Brandschutzbeauftragter
DESCRIPTION:Zertifizierte Ausbildung zum Brandschutzbeauftragten nach vfdb-
 Richtlinie 12-09/01: 2014-08 (03) und DGUV Information 205:003\nhttps://ver
 netzung-und-gesellschaft.de/events/brandschutzbeauftragter/
URL:https://vernetzung-und-gesellschaft.de/events/brandschutzbeauftragter/
END:VEVENT
END:VCALENDAR