BEGIN:VCALENDAR
VERSION:2.0
PRODID:-//eventon.com NONSGML v1.0//EN
CALSCALE:GREGORIAN
METHOD:PUBLISH
BEGIN:VEVENT
UID:69e72e646bb6b
DTSTAMP:20260421T075932Z
DTSTART:20231204T090000Z
DTEND:20231205T170000Z
LOCATION:Essen
SUMMARY:Akustische Messungen
DESCRIPTION:Seminar zu den Grundlagen der &#8222;Akustischen Messung&#8220;
  im Umwelt- und Arbeitsschutz mit praktischen Übungen\nhttps://vernetzung-
 und-gesellschaft.de/events/akustische-messungen/
URL:https://vernetzung-und-gesellschaft.de/events/akustische-messungen/
END:VEVENT
END:VCALENDAR